Package: affyPLM Version: 1.80.0 Command: /home/biocbuild/R/R-beta-2024-04-15_r86425/bin/R CMD check --install=check:affyPLM.install-out.txt --library=/home/biocbuild/R/R-beta-2024-04-15_r86425/site-library --no-vignettes --timings affyPLM_1.80.0.tar.gz StartedAt: 2024-05-09 04:38:28 -0000 (Thu, 09 May 2024) EndedAt: 2024-05-09 04:42:08 -0000 (Thu, 09 May 2024) EllapsedTime: 220.5 seconds RetCode: 0 Status: WARNINGS CheckDir: affyPLM.Rcheck Warnings: 1