Package: affyPLM Version: 1.80.0 Command: /Library/Frameworks/R.framework/Resources/bin/R CMD build --keep-empty-dirs --no-resave-data affyPLM StartedAt: 2024-10-16 19:10:05 -0400 (Wed, 16 Oct 2024) EndedAt: 2024-10-16 19:13:22 -0400 (Wed, 16 Oct 2024) EllapsedTime: 197.1 seconds RetCode: 0 Status: OK PackageFile: affyPLM_1.80.0.tar.gz PackageFileSize: 6.291 MiB