Package: affyPLM Version: 1.80.0 Command: rm -rf affyPLM.buildbin-libdir && mkdir affyPLM.buildbin-libdir && /Users/biocbuild/BBS/utils/build-universal.sh affyPLM_1.80.0.tar.gz /Library/Frameworks/R.framework/Resources/bin/R affyPLM.buildbin-libdir StartedAt: 2024-10-18 17:12:29 -0400 (Fri, 18 Oct 2024) EndedAt: 2024-10-18 17:13:01 -0400 (Fri, 18 Oct 2024) EllapsedTime: 31.8 seconds RetCode: 0 Status: OK PackageFile: affyPLM_1.80.0.tgz PackageFileSize: 4.478 MiB