Package: affyPLM Version: 1.80.0 Maintainer: Ben Bolstad MaintainerEmail: bmb at bmbolstad.com git_url: https://git.bioconductor.org/packages/affyPLM git_branch: RELEASE_3_19 git_last_commit: b0584ed git_last_commit_date: 2024-04-30 10:11:47 -0400 (Tue, 30 Apr 2024)