Package: affyILM Version: 1.56.0 Command: rm -rf affyILM.buildbin-libdir && mkdir affyILM.buildbin-libdir && F:\biocbuild\bbs-3.19-bioc\R\bin\R.exe CMD INSTALL --build --library=affyILM.buildbin-libdir affyILM_1.56.0.tar.gz StartedAt: 2024-06-27 07:48:13 -0400 (Thu, 27 Jun 2024) EndedAt: 2024-06-27 07:48:36 -0400 (Thu, 27 Jun 2024) EllapsedTime: 22.2 seconds RetCode: 0 Status: OK PackageFile: affyILM_1.56.0.zip PackageFileSize: 394.9 KiB