Package: affyILM Version: 1.56.0 Command: /home/biocbuild/R/R-beta-2024-04-15_r86425/bin/R CMD check --install=check:affyILM.install-out.txt --library=/home/biocbuild/R/R-beta-2024-04-15_r86425/site-library --no-vignettes --timings affyILM_1.56.0.tar.gz StartedAt: 2024-05-09 04:38:15 -0000 (Thu, 09 May 2024) EndedAt: 2024-05-09 04:40:08 -0000 (Thu, 09 May 2024) EllapsedTime: 113.3 seconds RetCode: 0 Status: OK CheckDir: affyILM.Rcheck Warnings: 0