Package: affyILM Version: 1.56.0 Command: /home/biocbuild/R/R-beta-2024-04-15_r86425/bin/R CMD build --keep-empty-dirs --no-resave-data affyILM StartedAt: 2024-05-08 22:14:34 -0000 (Wed, 08 May 2024) EndedAt: 2024-05-08 22:15:31 -0000 (Wed, 08 May 2024) EllapsedTime: 56.1 seconds RetCode: 0 Status: OK PackageFile: affyILM_1.56.0.tar.gz PackageFileSize: 225.9 KiB