Package: affyContam Version: 1.62.0 Command: rm -rf affyContam.buildbin-libdir && mkdir affyContam.buildbin-libdir && F:\biocbuild\bbs-3.19-bioc\R\bin\R.exe CMD INSTALL --build --library=affyContam.buildbin-libdir affyContam_1.62.0.tar.gz StartedAt: 2024-06-27 07:48:10 -0400 (Thu, 27 Jun 2024) EndedAt: 2024-06-27 07:48:19 -0400 (Thu, 27 Jun 2024) EllapsedTime: 9.8 seconds RetCode: 0 Status: OK PackageFile: affyContam_1.62.0.zip PackageFileSize: 215.9 KiB