Package: affyContam Version: 1.62.0 Command: /Library/Frameworks/R.framework/Resources/bin/R CMD build --keep-empty-dirs --no-resave-data affyContam StartedAt: 2024-06-09 17:53:23 -0400 (Sun, 09 Jun 2024) EndedAt: 2024-06-09 17:53:46 -0400 (Sun, 09 Jun 2024) EllapsedTime: 22.8 seconds RetCode: 0 Status: OK PackageFile: affyContam_1.62.0.tar.gz PackageFileSize: 502.7 KiB