Package: affyContam Version: 1.62.0 Command: rm -rf affyContam.buildbin-libdir && mkdir affyContam.buildbin-libdir && /Users/biocbuild/BBS/utils/build-universal.sh affyContam_1.62.0.tar.gz /Library/Frameworks/R.framework/Resources/bin/R affyContam.buildbin-libdir StartedAt: 2024-06-11 10:03:31 -0400 (Tue, 11 Jun 2024) EndedAt: 2024-06-11 10:03:40 -0400 (Tue, 11 Jun 2024) EllapsedTime: 8.8 seconds RetCode: 0 Status: OK PackageFile: affyContam_1.62.0.tgz PackageFileSize: 302.5 KiB