Package: affyContam Version: 1.62.0 Command: /Library/Frameworks/R.framework/Resources/bin/R CMD INSTALL affyContam StartedAt: 2024-10-16 15:46:44 -0400 (Wed, 16 Oct 2024) EndedAt: 2024-10-16 15:46:50 -0400 (Wed, 16 Oct 2024) EllapsedTime: 5.9 seconds RetCode: 0 Status: OK