Package: affyContam Version: 1.62.0 Command: /Library/Frameworks/R.framework/Resources/bin/R CMD build --keep-empty-dirs --no-resave-data affyContam StartedAt: 2024-10-16 19:09:46 -0400 (Wed, 16 Oct 2024) EndedAt: 2024-10-16 19:09:57 -0400 (Wed, 16 Oct 2024) EllapsedTime: 11.0 seconds RetCode: 0 Status: OK PackageFile: affyContam_1.62.0.tar.gz PackageFileSize: 503.3 KiB