Package: affy Version: 1.82.0 Command: E:\biocbuild\bbs-3.19-bioc\R\bin\R.exe CMD check --no-multiarch --install=check:affy.install-out.txt --library=E:\biocbuild\bbs-3.19-bioc\R\library --no-vignettes --timings affy_1.82.0.tar.gz StartedAt: 2024-10-16 22:42:52 -0400 (Wed, 16 Oct 2024) EndedAt: 2024-10-16 22:45:23 -0400 (Wed, 16 Oct 2024) EllapsedTime: 151.6 seconds RetCode: 0 Status: WARNINGS CheckDir: affy.Rcheck Warnings: 1