Package: affy Version: 1.82.0 Command: F:\biocbuild\bbs-3.19-bioc\R\bin\R.exe CMD INSTALL affy StartedAt: 2024-06-26 15:42:03 -0400 (Wed, 26 Jun 2024) EndedAt: 2024-06-26 15:42:47 -0400 (Wed, 26 Jun 2024) EllapsedTime: 44.0 seconds RetCode: 0 Status: OK