Package: affy Version: 1.82.0 Command: chmod a+r affy -R && F:\biocbuild\bbs-3.19-bioc\R\bin\R.exe CMD build --keep-empty-dirs --no-resave-data affy StartedAt: 2024-06-26 17:01:08 -0400 (Wed, 26 Jun 2024) EndedAt: 2024-06-26 17:02:55 -0400 (Wed, 26 Jun 2024) EllapsedTime: 107.4 seconds RetCode: 0 Status: OK PackageFile: affy_1.82.0.tar.gz PackageFileSize: 1.177 MiB