Package: affy Version: 1.82.0 Command: rm -rf affy.buildbin-libdir && mkdir affy.buildbin-libdir && F:\biocbuild\bbs-3.19-bioc\R\bin\R.exe CMD INSTALL --build --library=affy.buildbin-libdir affy_1.82.0.tar.gz StartedAt: 2024-06-27 07:47:59 -0400 (Thu, 27 Jun 2024) EndedAt: 2024-06-27 07:48:31 -0400 (Thu, 27 Jun 2024) EllapsedTime: 31.8 seconds RetCode: 0 Status: OK PackageFile: affy_1.82.0.zip PackageFileSize: 1.49 MiB