Package: affy Version: 1.82.0 Command: /home/biocbuild/R/R-beta-2024-04-15_r86425/bin/R CMD build --keep-empty-dirs --no-resave-data affy StartedAt: 2024-05-08 22:14:12 -0000 (Wed, 08 May 2024) EndedAt: 2024-05-08 22:15:28 -0000 (Wed, 08 May 2024) EllapsedTime: 75.1 seconds RetCode: 0 Status: OK PackageFile: affy_1.82.0.tar.gz PackageFileSize: 1.647 MiB