Package: affy Version: 1.82.0 Command: /Library/Frameworks/R.framework/Resources/bin/R CMD check --install=check:affy.install-out.txt --library=/Library/Frameworks/R.framework/Resources/library --no-vignettes --timings affy_1.82.0.tar.gz StartedAt: 2024-10-17 11:50:54 -0400 (Thu, 17 Oct 2024) EndedAt: 2024-10-17 11:53:18 -0400 (Thu, 17 Oct 2024) EllapsedTime: 143.7 seconds RetCode: 0 Status: WARNINGS CheckDir: affy.Rcheck Warnings: 1