Package: affxparser Version: 1.76.0 Command: chmod a+r affxparser -R && F:\biocbuild\bbs-3.19-bioc\R\bin\R.exe CMD build --keep-empty-dirs --no-resave-data affxparser StartedAt: 2024-06-26 17:01:04 -0400 (Wed, 26 Jun 2024) EndedAt: 2024-06-26 17:01:26 -0400 (Wed, 26 Jun 2024) EllapsedTime: 21.9 seconds RetCode: 0 Status: OK PackageFile: affxparser_1.76.0.tar.gz PackageFileSize: 782.3 KiB