Package: affxparser Version: 1.76.0 Command: /Library/Frameworks/R.framework/Resources/bin/R CMD INSTALL affxparser StartedAt: 2024-10-16 15:33:45 -0400 (Wed, 16 Oct 2024) EndedAt: 2024-10-16 15:35:29 -0400 (Wed, 16 Oct 2024) EllapsedTime: 104.0 seconds RetCode: 0 Status: OK