Package: adverSCarial Version: 1.2.0 Command: E:\biocbuild\bbs-3.19-bioc\R\bin\R.exe CMD INSTALL adverSCarial StartedAt: 2024-10-16 16:15:39 -0400 (Wed, 16 Oct 2024) EndedAt: 2024-10-16 16:15:55 -0400 (Wed, 16 Oct 2024) EllapsedTime: 16.0 seconds RetCode: 0 Status: OK