Package: adverSCarial Version: 1.2.0 Command: chmod a+r adverSCarial -R && E:\biocbuild\bbs-3.19-bioc\R\bin\R.exe CMD build --keep-empty-dirs --no-resave-data adverSCarial StartedAt: 2024-10-16 17:29:25 -0400 (Wed, 16 Oct 2024) EndedAt: 2024-10-16 17:30:20 -0400 (Wed, 16 Oct 2024) EllapsedTime: 55.0 seconds RetCode: 0 Status: OK PackageFile: adverSCarial_1.2.0.tar.gz PackageFileSize: 149.5 KiB