Package: adverSCarial Version: 1.2.0 Command: chmod a+r adverSCarial -R && F:\biocbuild\bbs-3.19-bioc\R\bin\R.exe CMD build --keep-empty-dirs --no-resave-data adverSCarial StartedAt: 2024-06-26 17:00:52 -0400 (Wed, 26 Jun 2024) EndedAt: 2024-06-26 17:01:24 -0400 (Wed, 26 Jun 2024) EllapsedTime: 31.7 seconds RetCode: 0 Status: OK PackageFile: adverSCarial_1.2.0.tar.gz PackageFileSize: 149.5 KiB