Package: adverSCarial Version: 1.2.0 Command: rm -rf adverSCarial.buildbin-libdir && mkdir adverSCarial.buildbin-libdir && F:\biocbuild\bbs-3.19-bioc\R\bin\R.exe CMD INSTALL --build --library=adverSCarial.buildbin-libdir adverSCarial_1.2.0.tar.gz StartedAt: 2024-06-27 07:47:59 -0400 (Thu, 27 Jun 2024) EndedAt: 2024-06-27 07:48:10 -0400 (Thu, 27 Jun 2024) EllapsedTime: 10.5 seconds RetCode: 0 Status: OK PackageFile: adverSCarial_1.2.0.zip PackageFileSize: 336.6 KiB