Package: adverSCarial Version: 1.2.0 Command: /home/biocbuild/bbs-3.19-bioc/R/bin/R CMD build --keep-empty-dirs --no-resave-data adverSCarial StartedAt: 2024-10-16 16:51:49 -0400 (Wed, 16 Oct 2024) EndedAt: 2024-10-16 16:52:09 -0400 (Wed, 16 Oct 2024) EllapsedTime: 19.1 seconds RetCode: 0 Status: OK PackageFile: adverSCarial_1.2.0.tar.gz PackageFileSize: 148.5 KiB