Package: adverSCarial Version: 1.2.0 Command: /Library/Frameworks/R.framework/Resources/bin/R CMD INSTALL adverSCarial StartedAt: 2024-10-16 15:14:37 -0400 (Wed, 16 Oct 2024) EndedAt: 2024-10-16 15:14:45 -0400 (Wed, 16 Oct 2024) EllapsedTime: 7.9 seconds RetCode: 0 Status: OK