Package: adverSCarial Version: 1.2.0 Command: /Library/Frameworks/R.framework/Resources/bin/R CMD build --keep-empty-dirs --no-resave-data adverSCarial StartedAt: 2024-06-09 15:48:22 -0400 (Sun, 09 Jun 2024) EndedAt: 2024-06-09 15:48:49 -0400 (Sun, 09 Jun 2024) EllapsedTime: 27.1 seconds RetCode: 0 Status: OK PackageFile: adverSCarial_1.2.0.tar.gz PackageFileSize: 148.5 KiB