Package: adverSCarial Version: 1.2.0 Command: /home/biocbuild/R/R-beta-2024-04-15_r86425/bin/R CMD check --install=check:adverSCarial.install-out.txt --library=/home/biocbuild/R/R-beta-2024-04-15_r86425/site-library --no-vignettes --timings adverSCarial_1.2.0.tar.gz StartedAt: 2024-05-09 04:37:13 -0000 (Thu, 09 May 2024) EndedAt: 2024-05-09 04:39:21 -0000 (Thu, 09 May 2024) EllapsedTime: 127.3 seconds RetCode: 0 Status: WARNINGS CheckDir: adverSCarial.Rcheck Warnings: 1