Package: adverSCarial Version: 1.2.0 Command: /home/biocbuild/R/R-beta-2024-04-15_r86425/bin/R CMD build --keep-empty-dirs --no-resave-data adverSCarial StartedAt: 2024-05-08 22:14:06 -0000 (Wed, 08 May 2024) EndedAt: 2024-05-08 22:14:34 -0000 (Wed, 08 May 2024) EllapsedTime: 28.0 seconds RetCode: 0 Status: OK PackageFile: adverSCarial_1.2.0.tar.gz PackageFileSize: 148.5 KiB