Package: adverSCarial Version: 1.2.0 Command: /Library/Frameworks/R.framework/Resources/bin/R CMD build --keep-empty-dirs --no-resave-data adverSCarial StartedAt: 2024-10-16 19:09:00 -0400 (Wed, 16 Oct 2024) EndedAt: 2024-10-16 19:09:13 -0400 (Wed, 16 Oct 2024) EllapsedTime: 13.9 seconds RetCode: 0 Status: OK PackageFile: adverSCarial_1.2.0.tar.gz PackageFileSize: 148.6 KiB