Package: adverSCarial Version: 1.2.0 Command: rm -rf adverSCarial.buildbin-libdir && mkdir adverSCarial.buildbin-libdir && /Users/biocbuild/BBS/utils/build-universal.sh adverSCarial_1.2.0.tar.gz /Library/Frameworks/R.framework/Resources/bin/R adverSCarial.buildbin-libdir StartedAt: 2024-10-18 17:11:47 -0400 (Fri, 18 Oct 2024) EndedAt: 2024-10-18 17:11:54 -0400 (Fri, 18 Oct 2024) EllapsedTime: 6.8 seconds RetCode: 0 Status: OK PackageFile: adverSCarial_1.2.0.tgz PackageFileSize: 317.1 KiB