Package: adverSCarial Version: 1.2.0 Maintainer: Ghislain FIEVET MaintainerEmail: ghislain.fievet at gmail.com git_url: https://git.bioconductor.org/packages/adverSCarial git_branch: RELEASE_3_19 git_last_commit: 0edb731 git_last_commit_date: 2024-04-30 11:49:59 -0400 (Tue, 30 Apr 2024)