Package: acde Version: 1.34.0 Command: chmod a+r acde -R && F:\biocbuild\bbs-3.19-bioc\R\bin\R.exe CMD build --keep-empty-dirs --no-resave-data acde StartedAt: 2024-06-26 17:00:52 -0400 (Wed, 26 Jun 2024) EndedAt: 2024-06-26 17:01:21 -0400 (Wed, 26 Jun 2024) EllapsedTime: 29.4 seconds RetCode: 0 Status: OK PackageFile: acde_1.34.0.tar.gz PackageFileSize: 8.881 MiB