Package: acde Version: 1.34.0 Command: rm -rf acde.buildbin-libdir && mkdir acde.buildbin-libdir && F:\biocbuild\bbs-3.19-bioc\R\bin\R.exe CMD INSTALL --build --library=acde.buildbin-libdir acde_1.34.0.tar.gz StartedAt: 2024-06-27 07:47:59 -0400 (Thu, 27 Jun 2024) EndedAt: 2024-06-27 07:48:23 -0400 (Thu, 27 Jun 2024) EllapsedTime: 24.0 seconds RetCode: 0 Status: OK PackageFile: acde_1.34.0.zip PackageFileSize: 8.076 MiB