Package: acde Version: 1.34.0 Command: /home/biocbuild/bbs-3.19-bioc/R/bin/R CMD INSTALL acde StartedAt: 2024-10-16 15:49:32 -0400 (Wed, 16 Oct 2024) EndedAt: 2024-10-16 15:49:35 -0400 (Wed, 16 Oct 2024) EllapsedTime: 3.0 seconds RetCode: 0 Status: OK