Package: acde Version: 1.34.0 Command: /Library/Frameworks/R.framework/Resources/bin/R CMD build --keep-empty-dirs --no-resave-data acde StartedAt: 2024-10-16 16:58:27 -0400 (Wed, 16 Oct 2024) EndedAt: 2024-10-16 16:59:03 -0400 (Wed, 16 Oct 2024) EllapsedTime: 35.9 seconds RetCode: 0 Status: OK PackageFile: acde_1.34.0.tar.gz PackageFileSize: 8.876 MiB