Package: acde Version: 1.34.0 Command: /Library/Frameworks/R.framework/Resources/bin/R CMD INSTALL acde StartedAt: 2024-10-16 15:35:57 -0400 (Wed, 16 Oct 2024) EndedAt: 2024-10-16 15:36:02 -0400 (Wed, 16 Oct 2024) EllapsedTime: 5.0 seconds RetCode: 0 Status: OK