Package: acde Version: 1.34.0 Command: rm -rf acde.buildbin-libdir && mkdir acde.buildbin-libdir && /Users/biocbuild/BBS/utils/build-universal.sh acde_1.34.0.tar.gz /Library/Frameworks/R.framework/Resources/bin/R acde.buildbin-libdir StartedAt: 2024-10-18 17:11:09 -0400 (Fri, 18 Oct 2024) EndedAt: 2024-10-18 17:11:17 -0400 (Fri, 18 Oct 2024) EllapsedTime: 7.9 seconds RetCode: 0 Status: OK PackageFile: acde_1.34.0.tgz PackageFileSize: 8.174 MiB