Package: abseqR Version: 1.22.0 Command: chmod a+r abseqR -R && E:\biocbuild\bbs-3.19-bioc\R\bin\R.exe CMD build --keep-empty-dirs --no-resave-data abseqR StartedAt: 2024-10-16 17:29:25 -0400 (Wed, 16 Oct 2024) EndedAt: 2024-10-16 17:33:01 -0400 (Wed, 16 Oct 2024) EllapsedTime: 216.0 seconds RetCode: 0 Status: OK PackageFile: abseqR_1.22.0.tar.gz PackageFileSize: 2.146 MiB