Package: abseqR Version: 1.22.0 Command: /home/biocbuild/bbs-3.19-bioc/R/bin/R CMD check --install=check:abseqR.install-out.txt --library=/home/biocbuild/bbs-3.19-bioc/R/site-library --timings abseqR_1.22.0.tar.gz StartedAt: 2024-10-16 21:30:24 -0400 (Wed, 16 Oct 2024) EndedAt: 2024-10-16 21:33:35 -0400 (Wed, 16 Oct 2024) EllapsedTime: 190.5 seconds RetCode: 0 Status: OK CheckDir: abseqR.Rcheck Warnings: 0