Package: abseqR Version: 1.22.0 Command: /Library/Frameworks/R.framework/Resources/bin/R CMD check --install=check:abseqR.install-out.txt --library=/Library/Frameworks/R.framework/Resources/library --no-vignettes --timings abseqR_1.22.0.tar.gz StartedAt: 2024-10-17 00:50:14 -0400 (Thu, 17 Oct 2024) EndedAt: 2024-10-17 00:54:59 -0400 (Thu, 17 Oct 2024) EllapsedTime: 285.4 seconds RetCode: 0 Status: OK CheckDir: abseqR.Rcheck Warnings: 0