Package: abseqR Version: 1.22.0 Command: /home/biocbuild/R/R-beta-2024-04-15_r86425/bin/R CMD build --keep-empty-dirs --no-resave-data abseqR StartedAt: 2024-05-08 22:13:54 -0000 (Wed, 08 May 2024) EndedAt: 2024-05-08 22:16:28 -0000 (Wed, 08 May 2024) EllapsedTime: 153.2 seconds RetCode: 0 Status: OK PackageFile: abseqR_1.22.0.tar.gz PackageFileSize: 2.591 MiB