Package: abseqR Version: 1.22.0 Command: rm -rf abseqR.buildbin-libdir && mkdir abseqR.buildbin-libdir && /Users/biocbuild/BBS/utils/build-universal.sh abseqR_1.22.0.tar.gz /Library/Frameworks/R.framework/Resources/bin/R abseqR.buildbin-libdir StartedAt: 2024-06-11 10:02:36 -0400 (Tue, 11 Jun 2024) EndedAt: 2024-06-11 10:03:02 -0400 (Tue, 11 Jun 2024) EllapsedTime: 26.3 seconds RetCode: 0 Status: OK PackageFile: abseqR_1.22.0.tgz PackageFileSize: 2.905 MiB