Package: abseqR Version: 1.22.0 Command: /Library/Frameworks/R.framework/Resources/bin/R CMD build --keep-empty-dirs --no-resave-data abseqR StartedAt: 2024-10-16 19:05:39 -0400 (Wed, 16 Oct 2024) EndedAt: 2024-10-16 19:09:47 -0400 (Wed, 16 Oct 2024) EllapsedTime: 247.7 seconds RetCode: 0 Status: OK PackageFile: abseqR_1.22.0.tar.gz PackageFileSize: 2.901 MiB