Package: aCGH Version: 1.82.0 Command: rm -rf aCGH.buildbin-libdir && mkdir aCGH.buildbin-libdir && E:\biocbuild\bbs-3.19-bioc\R\bin\R.exe CMD INSTALL --build --library=aCGH.buildbin-libdir aCGH_1.82.0.tar.gz StartedAt: 2024-10-17 07:17:57 -0400 (Thu, 17 Oct 2024) EndedAt: 2024-10-17 07:18:49 -0400 (Thu, 17 Oct 2024) EllapsedTime: 51.4 seconds RetCode: 0 Status: OK PackageFile: aCGH_1.82.0.zip PackageFileSize: 2.44 MiB