Package: aCGH Version: 1.82.0 Command: rm -rf aCGH.buildbin-libdir && mkdir aCGH.buildbin-libdir && F:\biocbuild\bbs-3.19-bioc\R\bin\R.exe CMD INSTALL --build --library=aCGH.buildbin-libdir aCGH_1.82.0.tar.gz StartedAt: 2024-06-27 07:47:59 -0400 (Thu, 27 Jun 2024) EndedAt: 2024-06-27 07:48:25 -0400 (Thu, 27 Jun 2024) EllapsedTime: 26.1 seconds RetCode: 0 Status: OK PackageFile: aCGH_1.82.0.zip PackageFileSize: 2.44 MiB