Package: aCGH Version: 1.82.0 Command: /home/biocbuild/bbs-3.19-bioc/R/bin/R CMD INSTALL aCGH StartedAt: 2024-10-16 16:32:24 -0400 (Wed, 16 Oct 2024) EndedAt: 2024-10-16 16:32:34 -0400 (Wed, 16 Oct 2024) EllapsedTime: 10.1 seconds RetCode: 0 Status: OK