Package: aCGH Version: 1.82.0 Command: /home/biocbuild/bbs-3.19-bioc/R/bin/R CMD check --install=check:aCGH.install-out.txt --library=/home/biocbuild/bbs-3.19-bioc/R/site-library --timings aCGH_1.82.0.tar.gz StartedAt: 2024-10-16 21:30:24 -0400 (Wed, 16 Oct 2024) EndedAt: 2024-10-16 21:31:43 -0400 (Wed, 16 Oct 2024) EllapsedTime: 78.3 seconds RetCode: 0 Status: OK CheckDir: aCGH.Rcheck Warnings: 0