Package: aCGH Version: 1.82.0 Command: /home/biocbuild/R/R-beta-2024-04-15_r86425/bin/R CMD build --keep-empty-dirs --no-resave-data aCGH StartedAt: 2024-05-08 22:13:54 -0000 (Wed, 08 May 2024) EndedAt: 2024-05-08 22:14:30 -0000 (Wed, 08 May 2024) EllapsedTime: 36.1 seconds RetCode: 0 Status: OK PackageFile: aCGH_1.82.0.tar.gz PackageFileSize: 2.205 MiB