Package: aCGH Version: 1.82.0 Command: /Library/Frameworks/R.framework/Resources/bin/R CMD INSTALL aCGH StartedAt: 2024-06-09 17:01:54 -0400 (Sun, 09 Jun 2024) EndedAt: 2024-06-09 17:02:09 -0400 (Sun, 09 Jun 2024) EllapsedTime: 15.4 seconds RetCode: 0 Status: OK